BEGIN:VCALENDAR
METHOD:PUBLISH
X-WR-TIMEZONE:America/Chicago
PRODID:-//Hold My Ticket.//HMT Web App//EN
CALSCALE:GREGORIAN
METHOD:PUBLISH
X-WR-CALNAME:Threadgill's 
X-WR-CALDESC:Upcoming events at Threadgill's 
BEGIN:VTIMEZONE
TZID:America/Chicago 
END:VTIMEZONE
BEGIN:VEVENT
SEQUENCE:2
TRANSP:OPAQUE
UID:af9dfae3c7ab8aaa8a20b4a62caaf1da
DTSTART:20190628T200000
DTSTAMP:20190628T150122Z
SUMMARY:Songwriters Series: The Stray Bullets
DESCRIPTION:Bluegrass Fed - Blues Infused, The Stray Bullets is a band composed of musicians who play for the love of playing music.
CREATED:20190628T150122Z
URL;VALUE=URI:http://holdmyticket.com/event/342488 

DTEND:20190628T220000
END:VEVENT
END:VCALENDAR