BEGIN:VCALENDAR
METHOD:PUBLISH
X-WR-TIMEZONE:America/Denver
PRODID:-//Hold My Ticket.//HMT Web App//EN
CALSCALE:GREGORIAN
METHOD:PUBLISH
X-WR-CALNAME:Albuquerque Zoo
X-WR-CALDESC:Upcoming events at Albuquerque Zoo
BEGIN:VTIMEZONE
TZID:America/Denver 
END:VTIMEZONE
BEGIN:VEVENT
SEQUENCE:2
TRANSP:OPAQUE
UID:ddbd21e8b1f1466c5c9a8cd8d2eea8f4
DTSTART:20190719T190000
DTSTAMP:20190719T140155Z
SUMMARY:Natu Camara
DESCRIPTION:Natu Camara, known as "the beloved rap queen," has transformed into a singer and songwriter of rousing strength and significance. Her work incorporates social and political issues, empowering women and children and encouraging everyone to break the mold and live free. Guitar in hand, Natu emerges on the world stage with heart and soul in her music, calling for unity.
CREATED:20190719T140155Z
URL;VALUE=URI:http://holdmyticket.com/event/342489 

DTEND:20190719T210000
END:VEVENT
END:VCALENDAR