BEGIN:VCALENDAR
METHOD:PUBLISH
X-WR-TIMEZONE:America/Denver
PRODID:-//Hold My Ticket.//HMT Web App//EN
CALSCALE:GREGORIAN
METHOD:PUBLISH
X-WR-CALNAME:Tony Hillerman Library
X-WR-CALDESC:Upcoming events at Tony Hillerman Library
BEGIN:VTIMEZONE
TZID:America/Denver 
END:VTIMEZONE
BEGIN:VEVENT
SEQUENCE:2
TRANSP:OPAQUE
UID:768dd89a14a49bf21df527eba0cde8b6
DTSTART:20190821T120000
DTSTAMP:20190821T070139Z
SUMMARY:Rumelia Collective
DESCRIPTION:Rumelia Collective is a group of musicians who love playing the music of the Balkans and Mideast, as well as many other musical styles from around the world. The group weaves an intricate and mesmerizing blend of contemporary and traditional folk elements in their arrangements.
CREATED:20190821T070139Z
URL;VALUE=URI:http://holdmyticket.com/event/342628 

DTEND:20190821T130000
END:VEVENT
END:VCALENDAR