BEGIN:VCALENDAR
METHOD:PUBLISH
X-WR-TIMEZONE:America/Los_Angeles
PRODID:-//Hold My Ticket.//HMT Web App//EN
CALSCALE:GREGORIAN
METHOD:PUBLISH
X-WR-CALNAME:Humboldt Brews
X-WR-CALDESC:Upcoming events at Humboldt Brews
BEGIN:VTIMEZONE
TZID:America/Los_Angeles 
END:VTIMEZONE
BEGIN:VEVENT
SEQUENCE:2
TRANSP:OPAQUE
UID:9546d27efacdc6cd4ed9799db3f3a6c5
DTSTART:20190608T220000
DTSTAMP:20190608T170110Z
SUMMARY:Fat Laces 2: Electric Boogaloo
DESCRIPTION:A Night Of Classic Boogie, 80's Electro and Old School Hip-Hop from the awesome folks that bring you Soul Party. 
CREATED:20190608T170110Z
URL;VALUE=URI:http://holdmyticket.com/event/342978 

DTEND:20190609T013000
END:VEVENT
END:VCALENDAR