BEGIN:VCALENDAR
METHOD:PUBLISH
X-WR-TIMEZONE:America/Chicago
PRODID:-//Hold My Ticket.//HMT Web App//EN
CALSCALE:GREGORIAN
METHOD:PUBLISH
X-WR-CALNAME:Threadgill's 
X-WR-CALDESC:Upcoming events at Threadgill's 
BEGIN:VTIMEZONE
TZID:America/Chicago 
END:VTIMEZONE
BEGIN:VEVENT
SEQUENCE:2
TRANSP:OPAQUE
UID:5a4b5d6a00c223a7400fbc94ced113c0
DTSTART:20190630T183000
DTSTAMP:20190630T140115Z
SUMMARY:Soul of a Musician Series presents: Billy Harvey 
DESCRIPTION:Billy Harvey has been playing his own brand of Post Modern Pop, working not only as an artist but also as a musician (Patty Griffin, Courtyard Hounds), or a producer (Charlie Mars, Bob Schneider). Harvey's latest effort "Dear Danger," is his most personal to date, this record plays like any classic vinyl you've just rediscovered from your collection and then fallen back in love with. 
CREATED:20190630T140115Z
URL;VALUE=URI:http://holdmyticket.com/event/343127 

DTEND:20190630T200000
END:VEVENT
END:VCALENDAR