BEGIN:VCALENDAR
METHOD:PUBLISH
X-WR-TIMEZONE:America/Chicago
PRODID:-//Hold My Ticket.//HMT Web App//EN
CALSCALE:GREGORIAN
METHOD:PUBLISH
X-WR-CALNAME:Threadgill's 
X-WR-CALDESC:Upcoming events at Threadgill's 
BEGIN:VTIMEZONE
TZID:America/Chicago 
END:VTIMEZONE
BEGIN:VEVENT
SEQUENCE:2
TRANSP:OPAQUE
UID:c14a5a72644fafd14ae5f9b57d5a83a3
DTSTART:20190712T200000
DTSTAMP:20190712T150115Z
SUMMARY:Songwriters Series: Toni Price
DESCRIPTION:Winner of the 2018 Austin Music Award Hall of Fame, Toni Price brings her vocal styling to Threadgills, don't miss it.

CREATED:20190712T150115Z
URL;VALUE=URI:http://holdmyticket.com/event/343749 

DTEND:20190712T220000
END:VEVENT
END:VCALENDAR