BEGIN:VCALENDAR
METHOD:PUBLISH
X-WR-TIMEZONE:America/Chicago
PRODID:-//Hold My Ticket.//HMT Web App//EN
CALSCALE:GREGORIAN
METHOD:PUBLISH
X-WR-CALNAME:Threadgill's 
X-WR-CALDESC:Upcoming events at Threadgill's 
BEGIN:VTIMEZONE
TZID:America/Chicago 
END:VTIMEZONE
BEGIN:VEVENT
SEQUENCE:2
TRANSP:OPAQUE
UID:1b33f5d2e052021a3ab316633d7f500d
DTSTART:20190713T200000
DTSTAMP:20190713T150117Z
SUMMARY:White Ghost Shivers
DESCRIPTION:White Ghost Shivers is an eclectic American band, mixing cabaret, jazz, vaudeville, hokum, western swing, hillbilly, jugband and ragtime into a theatrical and infectious good time. They must be seen to be believed and are winners of 8 Austin Music Awards.
CREATED:20190713T150117Z
URL;VALUE=URI:http://holdmyticket.com/event/343750 

DTEND:20190713T220000
END:VEVENT
END:VCALENDAR