BEGIN:VCALENDAR
METHOD:PUBLISH
X-WR-TIMEZONE:America/Chicago
PRODID:-//Hold My Ticket.//HMT Web App//EN
CALSCALE:GREGORIAN
METHOD:PUBLISH
X-WR-CALNAME:Threadgill's 
X-WR-CALDESC:Upcoming events at Threadgill's 
BEGIN:VTIMEZONE
TZID:America/Chicago 
END:VTIMEZONE
BEGIN:VEVENT
SEQUENCE:2
TRANSP:OPAQUE
UID:278e56f7ce25244844ff86282848cda5
DTSTART:20190724T190000
DTSTAMP:20190724T140124Z
SUMMARY:Wonder What Wednesdays: Shawnee Kilgore &amp; Jana Pochop
DESCRIPTION:Join Shawnee Kilgore during the Wonder What Wednesday series for a weekly song swap, featuring this week's special guest Jana Pochop. 
CREATED:20190724T140124Z
URL;VALUE=URI:http://holdmyticket.com/event/343755 

DTEND:20190724T210000
END:VEVENT
END:VCALENDAR