BEGIN:VCALENDAR
METHOD:PUBLISH
X-WR-TIMEZONE:America/Chicago
PRODID:-//Hold My Ticket.//HMT Web App//EN
CALSCALE:GREGORIAN
METHOD:PUBLISH
X-WR-CALNAME:Threadgill's 
X-WR-CALDESC:Upcoming events at Threadgill's 
BEGIN:VTIMEZONE
TZID:America/Chicago 
END:VTIMEZONE
BEGIN:VEVENT
SEQUENCE:2
TRANSP:OPAQUE
UID:85c9227c507978b84830a7cba5ab638e
DTSTART:20190727T200000
DTSTAMP:20190727T150148Z
SUMMARY:Songwriters Series: Coby Wier
DESCRIPTION:Coby Wier joins us for the Songwriters Series in Threadgill's Listening Room. Music runs in Coby's family and you may recognize the music of his father, Rusty Wier. Don't miss this night of incredible songwriting and talent! 
CREATED:20190727T150148Z
URL;VALUE=URI:http://holdmyticket.com/event/343756 

DTEND:20190727T220000
END:VEVENT
END:VCALENDAR