BEGIN:VCALENDAR
METHOD:PUBLISH
X-WR-TIMEZONE:America/Chicago
PRODID:-//Hold My Ticket.//HMT Web App//EN
CALSCALE:GREGORIAN
METHOD:PUBLISH
X-WR-CALNAME:Threadgill's 
X-WR-CALDESC:Upcoming events at Threadgill's 
BEGIN:VTIMEZONE
TZID:America/Chicago 
END:VTIMEZONE
BEGIN:VEVENT
SEQUENCE:2
TRANSP:OPAQUE
UID:06cc31affa9cf351e2bf1a47b7c9f3f4
DTSTART:20190731T190000
DTSTAMP:20190731T140132Z
SUMMARY:Wonder What Wednesdays: Shawnee Kilgore &amp; Danny Schmidt
DESCRIPTION:Join Shawnee Kilgore during the Wonder What Wednesday series for a weekly song swap, featuring this week's special guest Danny Schmidt. 
CREATED:20190731T140132Z
URL;VALUE=URI:http://holdmyticket.com/event/343757 

DTEND:20190731T210000
END:VEVENT
END:VCALENDAR