BEGIN:VCALENDAR
METHOD:PUBLISH
X-WR-TIMEZONE:America/Chicago
PRODID:-//Hold My Ticket.//HMT Web App//EN
CALSCALE:GREGORIAN
METHOD:PUBLISH
X-WR-CALNAME:Threadgill's 
X-WR-CALDESC:Upcoming events at Threadgill's 
BEGIN:VTIMEZONE
TZID:America/Chicago 
END:VTIMEZONE
BEGIN:VEVENT
SEQUENCE:2
TRANSP:OPAQUE
UID:e047faf89cb0268b63bcddbcafcb902f
DTSTART:20190703T190000
DTSTAMP:20190703T140129Z
SUMMARY:Wonder What Wednesdays: Shawnee Kilgore &amp; Boyd Blomberg
DESCRIPTION:Join Shawnee Kilgore during the Wonder What Wednesday series for a weekly song swap, featuring this week's special guest Boyd Blomberg.
CREATED:20190703T140129Z
URL;VALUE=URI:http://holdmyticket.com/event/343836 

DTEND:20190703T210000
END:VEVENT
END:VCALENDAR