BEGIN:VCALENDAR
METHOD:PUBLISH
X-WR-TIMEZONE:America/Chicago
PRODID:-//Hold My Ticket.//HMT Web App//EN
CALSCALE:GREGORIAN
METHOD:PUBLISH
X-WR-CALNAME:Threadgill's 
X-WR-CALDESC:Upcoming events at Threadgill's 
BEGIN:VTIMEZONE
TZID:America/Chicago 
END:VTIMEZONE
BEGIN:VEVENT
SEQUENCE:2
TRANSP:OPAQUE
UID:27bc16ec03baa82c5c33c99dacc34390
DTSTART:20190719T200000
DTSTAMP:20190719T150111Z
SUMMARY:Songwriters Series: Redd Volkaert and Floyd Domino 
DESCRIPTION:Grammy winners Floyd Domino and Redd Volkaert are combining forces to bring a night of incredible music to Threadgill's! $15 advance, $20 at the door. 

About the artists: 
Two-time Grammy Award winner Floyd Domino, former band member &amp; keyboardist of the famed Western swing band, Asleep at the Wheel, now has a string of acclaimed albums, appeared on 20 #1 hit singles including Willie Nelson and Merle Haggard.  Inducted into the Texas Music Legends Hall Of Fame in 2019, Domino continues to explore diverse formats that include The Demonic Duo with fellow Grammy winner and guitar master, Redd Volkaert and leads the multi-instrumental 7-piece swing/jump band, Floyd Domino's All-Stars.

Grammy winning, internationally-celebrated, tele-blazing guitarist, Redd Volkaert has played with Merle Haggard, Eric Johnson, George Jones, Billy Gibbons, and many more.  Volkaert's genres and deep vocals range from country, jazz, blues, western swing, rock and laced with homespun humor between songs.  Inducted into the Austin Music Hall of Fame in 2015.   "Redd Volkaert is arguably the best guitarist in a town overflowing with them." - Austin Chronicle...Jim Caligiuri.  Redd has held residency gigs at the iconic Continental Club in Austin for almost 20yrs with his own band and the legendary Heybale! traditional country act.  
CREATED:20190719T150111Z
URL;VALUE=URI:http://holdmyticket.com/event/343871 

DTEND:20190719T220000
END:VEVENT
END:VCALENDAR