BEGIN:VCALENDAR
METHOD:PUBLISH
X-WR-TIMEZONE:America/Los_Angeles
PRODID:-//Hold My Ticket.//HMT Web App//EN
CALSCALE:GREGORIAN
METHOD:PUBLISH
X-WR-CALNAME:Humboldt Brews
X-WR-CALDESC:Upcoming events at Humboldt Brews
BEGIN:VTIMEZONE
TZID:America/Los_Angeles 
END:VTIMEZONE
BEGIN:VEVENT
SEQUENCE:2
TRANSP:OPAQUE
UID:82eaec44d2e58907fe2d075e5b3eb923
DTSTART:20190727T210000
DTSTAMP:20190727T160148Z
SUMMARY:Soul Party #26
DESCRIPTION:Monthly dance party with DJ's Red, Funky T Rex, and JayMorg spinning your favorite tunes.
CREATED:20190727T160148Z
URL;VALUE=URI:http://holdmyticket.com/event/343943 

DTEND:20190728T013000
END:VEVENT
END:VCALENDAR