BEGIN:VCALENDAR
METHOD:PUBLISH
X-WR-TIMEZONE:America/Denver
PRODID:-//Hold My Ticket.//HMT Web App//EN
CALSCALE:GREGORIAN
METHOD:PUBLISH
X-WR-CALNAME:Taos Mesa Brewing (inside)
X-WR-CALDESC:Upcoming events at Taos Mesa Brewing (inside)
BEGIN:VTIMEZONE
TZID:America/Denver 
END:VTIMEZONE
BEGIN:VEVENT
SEQUENCE:2
TRANSP:OPAQUE
UID:f44fe3b26ed127ad86afdab2afb38b85
DTSTART:20191017T193000
DTSTAMP:20191017T150148Z
SUMMARY:KONGOS
DESCRIPTION:The brothers KONGOS--Johnny, Jesse, Dylan, and Danny--have music in their blood. Their South African/British father, John Kongos, landed multiple chart hits in the seventies, and the boys picked up instruments at a young age. Now, they're continuing that musical legacy. Fitness and YIP YOPS will open the show.
CREATED:20191017T150148Z
URL;VALUE=URI:http://holdmyticket.com/event/344039 

DTEND:20191017T230000
END:VEVENT
END:VCALENDAR