BEGIN:VCALENDAR
METHOD:PUBLISH
X-WR-TIMEZONE:America/Denver
PRODID:-//Hold My Ticket.//HMT Web App//EN
CALSCALE:GREGORIAN
METHOD:PUBLISH
X-WR-CALNAME:Outpost Performance Space
X-WR-CALDESC:Upcoming events at Outpost Performance Space
BEGIN:VTIMEZONE
TZID:America/Denver 
END:VTIMEZONE
BEGIN:VEVENT
SEQUENCE:2
TRANSP:OPAQUE
UID:ee655fc75219f8963b20b864647601b9
DTSTART:20190818T193000
DTSTAMP:20190818T152746Z
SUMMARY:Eliza Gilkyson - SOLD OUT
DESCRIPTION:Eliza Gilkyson is a twice-Grammy-nominated (2006/2015) singer-songwriter and activist who is one of the most respected musicians in Folk, Roots and Americana circles. Her songs have been covered by Joan Baez, Bob Geldof, Tom Rush and Rosanne Cash, and have appeared in films, PBS specials and on prime-time TV.  A member of the Austin Music Hall of Fame, and a recent inductee into the Austin Songwriter Hall of Fame, she has won countless Folk Alliance and Austin Music awards.
CREATED:20190818T152746Z
URL;VALUE=URI:http://holdmyticket.com/event/344040 

DTEND:20190818T213000
END:VEVENT
END:VCALENDAR