BEGIN:VCALENDAR
METHOD:PUBLISH
X-WR-TIMEZONE:America/Denver
PRODID:-//Hold My Ticket.//HMT Web App//EN
CALSCALE:GREGORIAN
METHOD:PUBLISH
X-WR-CALNAME:The Oriental Theater
X-WR-CALDESC:Upcoming events at The Oriental Theater
BEGIN:VTIMEZONE
TZID:America/Denver 
END:VTIMEZONE
BEGIN:VEVENT
SEQUENCE:2
TRANSP:OPAQUE
UID:f437de74f483d6c7ff37fbc5ebdd7267
DTSTART:20190830T200000
DTSTAMP:20190830T150151Z
SUMMARY:Mephiskapheles
DESCRIPTION:
CREATED:20190830T150151Z
URL;VALUE=URI:http://holdmyticket.com/event/344068 

DTEND:20190830T230000
END:VEVENT
END:VCALENDAR