BEGIN:VCALENDAR
METHOD:PUBLISH
X-WR-TIMEZONE:America/Chicago
PRODID:-//Hold My Ticket.//HMT Web App//EN
CALSCALE:GREGORIAN
METHOD:PUBLISH
X-WR-CALNAME:Threadgill's 
X-WR-CALDESC:Upcoming events at Threadgill's 
BEGIN:VTIMEZONE
TZID:America/Chicago 
END:VTIMEZONE
BEGIN:VEVENT
SEQUENCE:2
TRANSP:OPAQUE
UID:6da466a76196dccb76d3ef85bb326b47
DTSTART:20190717T190000
DTSTAMP:20190717T140142Z
SUMMARY:Wonder What Wednesdays: Colin Gilmore &amp; Nicolette Good
DESCRIPTION:We're mixing it up this week for Wonder What Wednesdays with a talented duo, Colin Gilmore and Nicolette Good!
CREATED:20190717T140142Z
URL;VALUE=URI:http://holdmyticket.com/event/344156 

DTEND:20190717T210000
END:VEVENT
END:VCALENDAR