BEGIN:VCALENDAR
METHOD:PUBLISH
X-WR-TIMEZONE:America/Chicago
PRODID:-//Hold My Ticket.//HMT Web App//EN
CALSCALE:GREGORIAN
METHOD:PUBLISH
X-WR-CALNAME:Threadgill's 
X-WR-CALDESC:Upcoming events at Threadgill's 
BEGIN:VTIMEZONE
TZID:America/Chicago 
END:VTIMEZONE
BEGIN:VEVENT
SEQUENCE:2
TRANSP:OPAQUE
UID:52e9aee39bd8e424b28deef931a8008e
DTSTART:20190726T200000
DTSTAMP:20190726T150128Z
SUMMARY:Billy Wilson
DESCRIPTION:Billy Wilson, the dynamic voice that fronts the much acclaimed Latin at Heart, is joined on stage by some of Austin's best for a separate and different show simply billed as "Billy Wilson".  The show, unlike Latin at Heart, which is all originals, includes classic covers from the 60s and 70s.  "Billy Wilson" shows happen only occasionally in some of Austin's major music venues, come see for yourself! 

CREATED:20190726T150128Z
URL;VALUE=URI:http://holdmyticket.com/event/344499 

DTEND:20190726T213000
END:VEVENT
END:VCALENDAR