BEGIN:VCALENDAR
METHOD:PUBLISH
X-WR-TIMEZONE:America/Denver
PRODID:-//Hold My Ticket.//HMT Web App//EN
CALSCALE:GREGORIAN
METHOD:PUBLISH
X-WR-CALNAME:Falling Colors
X-WR-CALDESC:Upcoming events at Falling Colors
BEGIN:VTIMEZONE
TZID:America/Denver 
END:VTIMEZONE
BEGIN:VEVENT
SEQUENCE:2
TRANSP:OPAQUE
UID:4a8088d70b6726c4bffb127486a05884
DTSTART:20190820T170000
DTSTAMP:20190820T120147Z
SUMMARY: Tech Recruiting in New Mexico
DESCRIPTION:
CREATED:20190820T120147Z
URL;VALUE=URI:http://holdmyticket.com/event/345306 

DTEND:20190820T200000
END:VEVENT
END:VCALENDAR