BEGIN:VCALENDAR
METHOD:PUBLISH
X-WR-TIMEZONE:America/Chicago
PRODID:-//Hold My Ticket.//HMT Web App//EN
CALSCALE:GREGORIAN
METHOD:PUBLISH
X-WR-CALNAME:Threadgill's 
X-WR-CALDESC:Upcoming events at Threadgill's 
BEGIN:VTIMEZONE
TZID:America/Chicago 
END:VTIMEZONE
BEGIN:VEVENT
SEQUENCE:2
TRANSP:OPAQUE
UID:9d000133820e91a54e47d75375dd1a07
DTSTART:20190803T200000
DTSTAMP:20190803T150159Z
SUMMARY:Frank Martin Gilligan and Joe Gavito
DESCRIPTION:Singer/songwriter Frank Gilligan formed Mason Dixon, which had nine  #1 records on the Independent Country Music Charts and had 13 songs on the Billboard Charts in the 80's. After a health scare Frank returned to songwriting  a couple of years ago and won the Kerrville New Folk Songwriter Award as well as The Wildflower Art's and Music Festival Award. His latest album "Silver Dollar" spent 4 weeks at #1 on the Roots Americana Charts. Don't miss this Texas treasure!

CREATED:20190803T150159Z
URL;VALUE=URI:http://holdmyticket.com/event/345449 

DTEND:20190803T220000
END:VEVENT
END:VCALENDAR