BEGIN:VCALENDAR
METHOD:PUBLISH
X-WR-TIMEZONE:America/Chicago
PRODID:-//Hold My Ticket.//HMT Web App//EN
CALSCALE:GREGORIAN
METHOD:PUBLISH
X-WR-CALNAME:Threadgill's 
X-WR-CALDESC:Upcoming events at Threadgill's 
BEGIN:VTIMEZONE
TZID:America/Chicago 
END:VTIMEZONE
BEGIN:VEVENT
SEQUENCE:2
TRANSP:OPAQUE
UID:34df8d46637118b711725f22005b9bda
DTSTART:20190809T200000
DTSTAMP:20190809T150155Z
SUMMARY:Songwriters Series: Michael Hearne &amp; Shake Russell
DESCRIPTION:Michael Hearne and Shake Russell have joined forces on their first duo recording - "Only As Strong As Your Dreams" released on Howlin' Dog Records! Come out for an evening of incredible music and food. 

CREATED:20190809T150155Z
URL;VALUE=URI:http://holdmyticket.com/event/345451 

DTEND:20190809T220000
END:VEVENT
END:VCALENDAR