BEGIN:VCALENDAR
METHOD:PUBLISH
X-WR-TIMEZONE:America/Chicago
PRODID:-//Hold My Ticket.//HMT Web App//EN
CALSCALE:GREGORIAN
METHOD:PUBLISH
X-WR-CALNAME:Threadgill's 
X-WR-CALDESC:Upcoming events at Threadgill's 
BEGIN:VTIMEZONE
TZID:America/Chicago 
END:VTIMEZONE
BEGIN:VEVENT
SEQUENCE:2
TRANSP:OPAQUE
UID:7896031534783f5160bbc3fa27e1002f
DTSTART:20190810T200000
DTSTAMP:20190810T150115Z
SUMMARY:Minor Keys
DESCRIPTION:The minor Keys are Anna Zavelson and Joey Painter. Friends since kindergarten, the duo began performing together at age 9 and have grown and developed their talents. The have played across Austin from 6th Street bars and Lake venues to packed hotel ballrooms, including SXSW shows and HAAM Day.
CREATED:20190810T150115Z
URL;VALUE=URI:http://holdmyticket.com/event/345452 

DTEND:20190810T220000
END:VEVENT
END:VCALENDAR