BEGIN:VCALENDAR
METHOD:PUBLISH
X-WR-TIMEZONE:America/Chicago
PRODID:-//Hold My Ticket.//HMT Web App//EN
CALSCALE:GREGORIAN
METHOD:PUBLISH
X-WR-CALNAME:Threadgill's 
X-WR-CALDESC:Upcoming events at Threadgill's 
BEGIN:VTIMEZONE
TZID:America/Chicago 
END:VTIMEZONE
BEGIN:VEVENT
SEQUENCE:2
TRANSP:OPAQUE
UID:82bccedd7d9b54531b0f4e27e611e5e6
DTSTART:20190816T200000
DTSTAMP:20190816T150136Z
SUMMARY:High Standards
DESCRIPTION:High Standards is a jazz quintet based in Austin, Texas.  Ready to bring a crowd music of all kinds, listeners will move and groove to their favorite style before they leave for the night. From classic jazz to funk, compiled of musicians from around the world, this quintet brings tunes with with the highest of standards.

CREATED:20190816T150136Z
URL;VALUE=URI:http://holdmyticket.com/event/345454 

DTEND:20190816T220000
END:VEVENT
END:VCALENDAR