BEGIN:VCALENDAR
METHOD:PUBLISH
X-WR-TIMEZONE:America/Chicago
PRODID:-//Hold My Ticket.//HMT Web App//EN
CALSCALE:GREGORIAN
METHOD:PUBLISH
X-WR-CALNAME:Threadgill's 
X-WR-CALDESC:Upcoming events at Threadgill's 
BEGIN:VTIMEZONE
TZID:America/Chicago 
END:VTIMEZONE
BEGIN:VEVENT
SEQUENCE:2
TRANSP:OPAQUE
UID:1061bcc4169d8bf039e9529b4aef4653
DTSTART:20190817T200000
DTSTAMP:20190817T150135Z
SUMMARY:Songwriters Series: Nakia
DESCRIPTION:Austin-based, Alabama-raised singer/songwriter Nakia has a heart that beats to the rhythms of Muscle Shoals soul, pumping blood infused with Stax funk to cells lined with Chicago blues grooves. His vocal talent is the kind that instantly turns listeners into fans -- among them CeeLo Green, who invited Nakia to sing on his Muppets Christmas special. Nakia was a Top 8 Semifinalist on CeeLo's team during the first season of 'The Voice' on NBC.
CREATED:20190817T150135Z
URL;VALUE=URI:http://holdmyticket.com/event/345455 

DTEND:20190817T220000
END:VEVENT
END:VCALENDAR