BEGIN:VCALENDAR
METHOD:PUBLISH
X-WR-TIMEZONE:America/Chicago
PRODID:-//Hold My Ticket.//HMT Web App//EN
CALSCALE:GREGORIAN
METHOD:PUBLISH
X-WR-CALNAME:Threadgill's 
X-WR-CALDESC:Upcoming events at Threadgill's 
BEGIN:VTIMEZONE
TZID:America/Chicago 
END:VTIMEZONE
BEGIN:VEVENT
SEQUENCE:2
TRANSP:OPAQUE
UID:6ecc3dfb237c2cc2fa715271fb60feb8
DTSTART:20190823T200000
DTSTAMP:20190823T150146Z
SUMMARY:Songwriters Series: Sharon Bourbonnias
DESCRIPTION:Sharon has been the number one Austin Jazz artist on Reverbnation for over two years. Sharon and her band, Bourbonnais, have residencies in Austin at the world-renowned Elephant Room and the historic Driskill Hotel Bar. Occupying a fun niche between New Orleans inspired jazz and Texas blues, Sharon's music swings and sings of romance, dance and panache. She's recording a new album with noted producer and music legend Chris Gage, eyeing a 2020 release. 
CREATED:20190823T150146Z
URL;VALUE=URI:http://holdmyticket.com/event/345457 

DTEND:20190823T220000
END:VEVENT
END:VCALENDAR