BEGIN:VCALENDAR
METHOD:PUBLISH
X-WR-TIMEZONE:America/Chicago
PRODID:-//Hold My Ticket.//HMT Web App//EN
CALSCALE:GREGORIAN
METHOD:PUBLISH
X-WR-CALNAME:Threadgill's 
X-WR-CALDESC:Upcoming events at Threadgill's 
BEGIN:VTIMEZONE
TZID:America/Chicago 
END:VTIMEZONE
BEGIN:VEVENT
SEQUENCE:2
TRANSP:OPAQUE
UID:b81526823cb3b43b48a731e1c63c2aa2
DTSTART:20190830T200000
DTSTAMP:20190830T150152Z
SUMMARY:Songwriter Series: Cotton Mather
DESCRIPTION:Cotton Mather's music is brilliant fusion of The Beatles, Squeeze and other power pop influences both vintage and contemporary. Oasis guitarist and songwriter Noel Gallagher got a copy of their album "Kon Tiki", and was impressed. He helped promote Cotton Mather and asked them to tour with Oasis.
CREATED:20190830T150152Z
URL;VALUE=URI:http://holdmyticket.com/event/345460 

DTEND:20190830T220000
END:VEVENT
END:VCALENDAR