BEGIN:VCALENDAR
METHOD:PUBLISH
X-WR-TIMEZONE:America/Denver
PRODID:-//Hold My Ticket.//HMT Web App//EN
CALSCALE:GREGORIAN
METHOD:PUBLISH
X-WR-CALNAME:Tumbleroot Brewery & Distillery
X-WR-CALDESC:Upcoming events at Tumbleroot Brewery & Distillery
BEGIN:VTIMEZONE
TZID:America/Denver 
END:VTIMEZONE
BEGIN:VEVENT
SEQUENCE:2
TRANSP:OPAQUE
UID:05e7d7402034b5a491bcb333367cb478
DTSTART:20191020T193000
DTSTAMP:20191020T203509Z
SUMMARY:Christone "Kingfish" Ingram -  SOLD OUT 
DESCRIPTION:Once a generation, a blues artist comes along who not only reminds mainstream audiences how deeply satisfying and emotionally moving the best blues music can be, but shakes the genre to its core. Sprung from the same earth as so many of the Delta blues masters, Christone "Kingfish" Ingram comes bursting out of Clarksdale, Mississippi, just ten miles from the legendary crossroads of Highways 61 and 49. A student of the Delta's musical history, he is acutely aware of the musicians and the music that emerged from his corner of the world. "I do think I have an old soul, that I've been here before," he says. "I'm moving forward with one foot in the past." The So Lows will open the show.
CREATED:20191020T203509Z
URL;VALUE=URI:http://holdmyticket.com/event/346037 

DTEND:20191020T220000
END:VEVENT
END:VCALENDAR