BEGIN:VCALENDAR
METHOD:PUBLISH
X-WR-TIMEZONE:America/Chicago
PRODID:-//Hold My Ticket.//HMT Web App//EN
CALSCALE:GREGORIAN
METHOD:PUBLISH
X-WR-CALNAME:Threadgill's 
X-WR-CALDESC:Upcoming events at Threadgill's 
BEGIN:VTIMEZONE
TZID:America/Chicago 
END:VTIMEZONE
BEGIN:VEVENT
SEQUENCE:2
TRANSP:OPAQUE
UID:6b6816097b95257d57f84295fdba26da
DTSTART:20190814T190000
DTSTAMP:20190814T140124Z
SUMMARY:Wonder What Wednesdays: Shawnee Kilgore &amp; Carrie Elkin
DESCRIPTION:Join Shawnee Kilgore during the Wonder What Wednesday series for a weekly song swap, featuring this week's special guest Carrie Elkin. 
CREATED:20190814T140124Z
URL;VALUE=URI:http://holdmyticket.com/event/346043 

DTEND:20190814T210000
END:VEVENT
END:VCALENDAR