BEGIN:VCALENDAR
METHOD:PUBLISH
X-WR-TIMEZONE:America/Chicago
PRODID:-//Hold My Ticket.//HMT Web App//EN
CALSCALE:GREGORIAN
METHOD:PUBLISH
X-WR-CALNAME:Threadgill's 
X-WR-CALDESC:Upcoming events at Threadgill's 
BEGIN:VTIMEZONE
TZID:America/Chicago 
END:VTIMEZONE
BEGIN:VEVENT
SEQUENCE:2
TRANSP:OPAQUE
UID:fc80f8e1a725273a13f028355ba260a2
DTSTART:20190821T190000
DTSTAMP:20190821T140123Z
SUMMARY:Wonder What Wednesdays: Shawnee Kilgore &amp; Chris Gage
DESCRIPTION:Join Shawnee Kilgore during the Wonder What Wednesday series for a weekly song swap, featuring this week's special guest Chris Gage. 
CREATED:20190821T140123Z
URL;VALUE=URI:http://holdmyticket.com/event/346045 

DTEND:20190821T210000
END:VEVENT
END:VCALENDAR