BEGIN:VCALENDAR
METHOD:PUBLISH
X-WR-TIMEZONE:America/Chicago
PRODID:-//Hold My Ticket.//HMT Web App//EN
CALSCALE:GREGORIAN
METHOD:PUBLISH
X-WR-CALNAME:Threadgill's 
X-WR-CALDESC:Upcoming events at Threadgill's 
BEGIN:VTIMEZONE
TZID:America/Chicago 
END:VTIMEZONE
BEGIN:VEVENT
SEQUENCE:2
TRANSP:OPAQUE
UID:1b17f050da0041a29d3beadfa9e17b29
DTSTART:20190828T190000
DTSTAMP:20190828T140145Z
SUMMARY:Wonder What Wednesdays: Shawnee Kilgore &amp; Erin Ivey
DESCRIPTION:Join Shawnee Kilgore during the Wonder What Wednesday series for a weekly song swap, featuring this week's special guest Erin Ivey. 
CREATED:20190828T140145Z
URL;VALUE=URI:http://holdmyticket.com/event/346046 

DTEND:20190828T210000
END:VEVENT
END:VCALENDAR