BEGIN:VCALENDAR
METHOD:PUBLISH
X-WR-TIMEZONE:America/Los_Angeles
PRODID:-//Hold My Ticket.//HMT Web App//EN
CALSCALE:GREGORIAN
METHOD:PUBLISH
X-WR-CALNAME:Humboldt Brews
X-WR-CALDESC:Upcoming events at Humboldt Brews
BEGIN:VTIMEZONE
TZID:America/Los_Angeles 
END:VTIMEZONE
BEGIN:VEVENT
SEQUENCE:2
TRANSP:OPAQUE
UID:00590aae95d2df5077d4493355ac03ec
DTSTART:20190925T213000
DTSTAMP:20190925T183946Z
SUMMARY:MarchFourth
DESCRIPTION:MarchFourth is a joy-inducing force of entertainment. The colorful explosion of brassy funk, rock, and jazz is all about the groove. This larger-than-life group of musicians and acrobats tours the country year-round, bringing a spirit of celebration wherever they go. MarchFourth is, in a word, FUN! 

With exceptional musical quality and a visual kaleidoscope of performers, MarchFourth is a spectacle of high-energy compositions, colorful costumes, and irresistible charisma! M4 has been seen on stages from ESPN's Espy Awards to festivals like Wakarusa, Bumbershoot, and High Sierra Music Fest, to world-class venues like The Kennedy Center and The Fillmore, and even a cultural exchange tour to China, sponsored by the US State Department.

MarchFourth's track "Gospel" (from their self-released album Rise Up, 2009) was featured as the closing credits theme song in the Disney/Pixar animated film, Monster's University. Their next album Magnificent Beast was self-released in 2011, produced by fellow Portlander Steve Berlin (Los Lobos).

For their most recent album, Magic Number, fifteen MarchFourth musicians traveled from Portland, Oregon to New Orleans, Louisiana to record with Producer Ben Ellman (Galactic) and Engineer/Producer Mikael "Count" Eldridge (DJ Shadow, Tycho, Trombone Shorty). With local talent at the helm, the album is full of the captivating grooves and brassy swagger you'd expect from MarchFourth, plus a healthy dose of New Orleans magic, with guest appearance by Trombone Shorty, Stanton Moore (drums), and Matt Perrine (sousaphone). 


CREATED:20190925T183946Z
URL;VALUE=URI:http://holdmyticket.com/event/346123 

DTEND:20190926T010000
END:VEVENT
END:VCALENDAR