BEGIN:VCALENDAR
METHOD:PUBLISH
X-WR-TIMEZONE:America/Denver
PRODID:-//Hold My Ticket.//HMT Web App//EN
CALSCALE:GREGORIAN
METHOD:PUBLISH
X-WR-CALNAME:Taylor Ranch Library
X-WR-CALDESC:Upcoming events at Taylor Ranch Library
BEGIN:VTIMEZONE
TZID:America/Denver 
END:VTIMEZONE
BEGIN:VEVENT
SEQUENCE:2
TRANSP:OPAQUE
UID:a919f2fb44788230a079f741281dd537
DTSTART:20191218T180000
DTSTAMP:20191218T140141Z
SUMMARY:Q Brass
DESCRIPTION:Q Brass consists of Dave Ampleford (trumpet &amp; flugelhorn), Bill Kent (trumpet &amp; flugelhorn), Tim Falling (french horn), Jed Rowley (trombone) and Mark Weaver (tuba). The ensemble has been together since 2007, with members also performing in the Albuquerque Concert Band, the Albuquerque Philharmonic, Concordia Santa Fe, and other music groups. The group is equally at home performing the classical repertoire of brass quintet music as well as more contemporary pieces.
CREATED:20191218T140141Z
URL;VALUE=URI:http://holdmyticket.com/event/346159 

DTEND:20191218T190000
END:VEVENT
END:VCALENDAR