BEGIN:VCALENDAR
METHOD:PUBLISH
X-WR-TIMEZONE:America/Denver
PRODID:-//Hold My Ticket.//HMT Web App//EN
CALSCALE:GREGORIAN
METHOD:PUBLISH
X-WR-CALNAME:Kosmos AstroPub
X-WR-CALDESC:Upcoming events at Kosmos AstroPub
BEGIN:VTIMEZONE
TZID:America/Denver 
END:VTIMEZONE
BEGIN:VEVENT
SEQUENCE:2
TRANSP:OPAQUE
UID:b99ed60b416dae057aa04c3971c131e5
DTSTART:20190827T190000
DTSTAMP:20190827T160932Z
SUMMARY:Patti Littlefield - Jazz Stories 3.0--SOLD OUT
DESCRIPTION:
CREATED:20190827T160932Z
URL;VALUE=URI:http://holdmyticket.com/event/346350 

DTEND:20190827T210000
END:VEVENT
END:VCALENDAR