BEGIN:VCALENDAR
METHOD:PUBLISH
X-WR-TIMEZONE:America/Denver
PRODID:-//Hold My Ticket.//HMT Web App//EN
CALSCALE:GREGORIAN
METHOD:PUBLISH
X-WR-CALNAME:El Rey
X-WR-CALDESC:Upcoming events at El Rey
BEGIN:VTIMEZONE
TZID:America/Denver 
END:VTIMEZONE
BEGIN:VEVENT
SEQUENCE:2
TRANSP:OPAQUE
UID:3e700b2867f227256eb6f5f572dda562
DTSTART:20200118T200000
DTSTAMP:20200118T224030Z
SUMMARY:Machine Head 
DESCRIPTION:The show will consist of 2 sets. The first set will be with the newer members of Machine Head and it will consist of all "the hits." Then second set will be a reunion of original Machine Head members Rob Flynn, Logan Mader, and Chris Kontos and they will be playing the entirety of the "Burn My Eyes" album. 
CREATED:20200118T224030Z
URL;VALUE=URI:http://holdmyticket.com/event/346386 

DTEND:20200118T230000
END:VEVENT
END:VCALENDAR