BEGIN:VCALENDAR
METHOD:PUBLISH
X-WR-TIMEZONE:America/Chicago
PRODID:-//Hold My Ticket.//HMT Web App//EN
CALSCALE:GREGORIAN
METHOD:PUBLISH
X-WR-CALNAME:Threadgill's 
X-WR-CALDESC:Upcoming events at Threadgill's 
BEGIN:VTIMEZONE
TZID:America/Chicago 
END:VTIMEZONE
BEGIN:VEVENT
SEQUENCE:2
TRANSP:OPAQUE
UID:d2358523b47704596e66b481a47e6900
DTSTART:20190906T200000
DTSTAMP:20190906T150132Z
SUMMARY:The Raccoon Brothers
DESCRIPTION:The Raccoon Brothers have roots. A slew of influences from classic country to punk rock with scrappy guitar licks, tight harmonies, and thoughtful lyrics, it's what happens when musician friends from around the country find equal footing together in Austin, TX -- Americana music with Midwestern sensibilities and Texas attitude. A 5-piece outfit with a sound that swings from two stepping to hooting &amp; hollering, Raccoon Brothers is about celebrating the small victories in life and growing through the trials and tribulations in between. 

$10 cover. 
CREATED:20190906T150132Z
URL;VALUE=URI:http://holdmyticket.com/event/346754 

DTEND:20190906T220000
END:VEVENT
END:VCALENDAR