BEGIN:VCALENDAR
METHOD:PUBLISH
X-WR-TIMEZONE:America/Chicago
PRODID:-//Hold My Ticket.//HMT Web App//EN
CALSCALE:GREGORIAN
METHOD:PUBLISH
X-WR-CALNAME:Threadgill's 
X-WR-CALDESC:Upcoming events at Threadgill's 
BEGIN:VTIMEZONE
TZID:America/Chicago 
END:VTIMEZONE
BEGIN:VEVENT
SEQUENCE:2
TRANSP:OPAQUE
UID:251d5719f0167b162b36fe5a139039ca
DTSTART:20190907T200000
DTSTAMP:20190907T150129Z
SUMMARY:Ready Betty
DESCRIPTION:Time warp back to the whimsical world of Vaudeville, Rockabilly, and the Avant-Garde, with music from the 40'-70s Ready Betty's been shakin' booties in Austin since 2014. $10 cover.
CREATED:20190907T150129Z
URL;VALUE=URI:http://holdmyticket.com/event/346756 

DTEND:20190907T220000
END:VEVENT
END:VCALENDAR