BEGIN:VCALENDAR
METHOD:PUBLISH
X-WR-TIMEZONE:America/Chicago
PRODID:-//Hold My Ticket.//HMT Web App//EN
CALSCALE:GREGORIAN
METHOD:PUBLISH
X-WR-CALNAME:Threadgill's 
X-WR-CALDESC:Upcoming events at Threadgill's 
BEGIN:VTIMEZONE
TZID:America/Chicago 
END:VTIMEZONE
BEGIN:VEVENT
SEQUENCE:2
TRANSP:OPAQUE
UID:bda8df0d54d8c22bbc8f40fff6027737
DTSTART:20190914T200000
DTSTAMP:20190914T150153Z
SUMMARY:The Texas Lovebirds
DESCRIPTION:The Texas Lovebirds are an Austin based theatrical group that guarantees that if you come see them you'll feel better when you leave than when you arrived. Don't miss them! $10 cover.
CREATED:20190914T150153Z
URL;VALUE=URI:http://holdmyticket.com/event/346761 

DTEND:20190914T220000
END:VEVENT
END:VCALENDAR