BEGIN:VCALENDAR
METHOD:PUBLISH
X-WR-TIMEZONE:America/Chicago
PRODID:-//Hold My Ticket.//HMT Web App//EN
CALSCALE:GREGORIAN
METHOD:PUBLISH
X-WR-CALNAME:Threadgill's 
X-WR-CALDESC:Upcoming events at Threadgill's 
BEGIN:VTIMEZONE
TZID:America/Chicago 
END:VTIMEZONE
BEGIN:VEVENT
SEQUENCE:2
TRANSP:OPAQUE
UID:8e77ee266e08baf16c064235a146d267
DTSTART:20190920T200000
DTSTAMP:20190920T150152Z
SUMMARY:Trout Fishing in America
DESCRIPTION:Trout Fishing in America is the longstanding, four-time GRAMMY nominated musical partnership of Keith Grimwood and Ezra Idlet. A willingness to at once make fun of our most annoying daily habits, then to touch our hearts with tender and passionate images of family life, is what makes the connection between the duo and their audiences so compelling and poignant. "...the Lennon and McCartney of kids' music." - National Public Radio / Tickets: $15 advance, $20 day of show
CREATED:20190920T150152Z
URL;VALUE=URI:http://holdmyticket.com/event/346764 

DTEND:20190920T220000
END:VEVENT
END:VCALENDAR