BEGIN:VCALENDAR
METHOD:PUBLISH
X-WR-TIMEZONE:America/Chicago
PRODID:-//Hold My Ticket.//HMT Web App//EN
CALSCALE:GREGORIAN
METHOD:PUBLISH
X-WR-CALNAME:Threadgill's 
X-WR-CALDESC:Upcoming events at Threadgill's 
BEGIN:VTIMEZONE
TZID:America/Chicago 
END:VTIMEZONE
BEGIN:VEVENT
SEQUENCE:2
TRANSP:OPAQUE
UID:6aed38e47c09534b31a52bb558de4e62
DTSTART:20190921T200000
DTSTAMP:20190921T150115Z
SUMMARY:Bob Cheevers
DESCRIPTION:Whether playing shows in-and-around Austin or across the globe, Cheevers brings it all to the stage every night. An Emmy winning songwriter who was a show- opener on Johnny Cash's final tour, Bob's favorite acknowledgement is his Texas Music Award for "Singer/ songwriter Of The Year" which he received three years after moving to Austin. $10 cover.
CREATED:20190921T150115Z
URL;VALUE=URI:http://holdmyticket.com/event/346765 

DTEND:20190921T220000
END:VEVENT
END:VCALENDAR