BEGIN:VCALENDAR
METHOD:PUBLISH
X-WR-TIMEZONE:America/Chicago
PRODID:-//Hold My Ticket.//HMT Web App//EN
CALSCALE:GREGORIAN
METHOD:PUBLISH
X-WR-CALNAME:Threadgill's 
X-WR-CALDESC:Upcoming events at Threadgill's 
BEGIN:VTIMEZONE
TZID:America/Chicago 
END:VTIMEZONE
BEGIN:VEVENT
SEQUENCE:2
TRANSP:OPAQUE
UID:3defd68277c38ac824ca8a64c6c08b94
DTSTART:20190904T190000
DTSTAMP:20190904T140138Z
SUMMARY:Midweek Modern Troubadours featuring Jana Pochop and Jeff Plankenhorn
DESCRIPTION:Join us for our new Wednesday night music series, Midweek Modern Troubadours, featuring Jana Pochop with special guest Jeff Plankenhorn.
CREATED:20190904T140138Z
URL;VALUE=URI:http://holdmyticket.com/event/346773 

DTEND:20190904T210000
END:VEVENT
END:VCALENDAR