BEGIN:VCALENDAR
METHOD:PUBLISH
X-WR-TIMEZONE:America/Chicago
PRODID:-//Hold My Ticket.//HMT Web App//EN
CALSCALE:GREGORIAN
METHOD:PUBLISH
X-WR-CALNAME:Threadgill's 
X-WR-CALDESC:Upcoming events at Threadgill's 
BEGIN:VTIMEZONE
TZID:America/Chicago 
END:VTIMEZONE
BEGIN:VEVENT
SEQUENCE:2
TRANSP:OPAQUE
UID:179cf2d1c2712c2e00e88bf7a38a43b5
DTSTART:20190911T190000
DTSTAMP:20190911T140154Z
SUMMARY:Midweek Modern Troubadours featuring Jana Pochop and Terri Hendrix
DESCRIPTION:Join us for our new Wednesday night music series, Midweek Modern Troubadours, featuring Jana Pochop with special guest Terri Hendrix.
CREATED:20190911T140154Z
URL;VALUE=URI:http://holdmyticket.com/event/346774 

DTEND:20190911T210000
END:VEVENT
END:VCALENDAR