BEGIN:VCALENDAR
METHOD:PUBLISH
X-WR-TIMEZONE:America/Chicago
PRODID:-//Hold My Ticket.//HMT Web App//EN
CALSCALE:GREGORIAN
METHOD:PUBLISH
X-WR-CALNAME:Threadgill's 
X-WR-CALDESC:Upcoming events at Threadgill's 
BEGIN:VTIMEZONE
TZID:America/Chicago 
END:VTIMEZONE
BEGIN:VEVENT
SEQUENCE:2
TRANSP:OPAQUE
UID:8824d70f11e60e9c23464e3eb29c7a0f
DTSTART:20190918T190000
DTSTAMP:20190918T140141Z
SUMMARY:Midweek Modern Troubadours featuring Jana Pochop and Michael O'Connor
DESCRIPTION:Join us for our new Wednesday night music series, Midweek Modern Troubadours, featuring Jana Pochop with special guest Michael O'Connor.
CREATED:20190918T140141Z
URL;VALUE=URI:http://holdmyticket.com/event/346775 

DTEND:20190918T210000
END:VEVENT
END:VCALENDAR