BEGIN:VCALENDAR
METHOD:PUBLISH
X-WR-TIMEZONE:America/Denver
PRODID:-//Hold My Ticket.//HMT Web App//EN
CALSCALE:GREGORIAN
METHOD:PUBLISH
X-WR-CALNAME:Kosmos AstroPub
X-WR-CALDESC:Upcoming events at Kosmos AstroPub
BEGIN:VTIMEZONE
TZID:America/Denver 
END:VTIMEZONE
BEGIN:VEVENT
SEQUENCE:2
TRANSP:OPAQUE
UID:5486a33666b0a1c5cb8c864765b18370
DTSTART:20190924T190000
DTSTAMP:20190924T140111Z
SUMMARY:Carla Van Blake - Jazz Stories 3.0
DESCRIPTION:
CREATED:20190924T140111Z
URL;VALUE=URI:http://holdmyticket.com/event/346788 

DTEND:20190924T210000
END:VEVENT
END:VCALENDAR