BEGIN:VCALENDAR
METHOD:PUBLISH
X-WR-TIMEZONE:America/Los_Angeles
PRODID:-//Hold My Ticket.//HMT Web App//EN
CALSCALE:GREGORIAN
METHOD:PUBLISH
X-WR-CALNAME:Humboldt Brews
X-WR-CALDESC:Upcoming events at Humboldt Brews
BEGIN:VTIMEZONE
TZID:America/Los_Angeles 
END:VTIMEZONE
BEGIN:VEVENT
SEQUENCE:2
TRANSP:OPAQUE
UID:d655189a0cc69aa5ac22cb63d4300a47
DTSTART:20190928T210000
DTSTAMP:20190928T160133Z
SUMMARY:Soul Party # 28
DESCRIPTION:Your favorite DJ's Red, JayMorg, and Funky T Rex spin the best soul music at our monthly dance party.
CREATED:20190928T160133Z
URL;VALUE=URI:http://holdmyticket.com/event/346900 

DTEND:20190929T013000
END:VEVENT
END:VCALENDAR