BEGIN:VCALENDAR
METHOD:PUBLISH
X-WR-TIMEZONE:America/Los_Angeles
PRODID:-//Hold My Ticket.//HMT Web App//EN
CALSCALE:GREGORIAN
METHOD:PUBLISH
X-WR-CALNAME:Humboldt Brews
X-WR-CALDESC:Upcoming events at Humboldt Brews
BEGIN:VTIMEZONE
TZID:America/Los_Angeles 
END:VTIMEZONE
BEGIN:VEVENT
SEQUENCE:2
TRANSP:OPAQUE
UID:af24c235f9ef5de79ba8d72415feb33a
DTSTART:20190906T220000
DTSTAMP:20190906T170130Z
SUMMARY:Brews n' Bass
DESCRIPTION:Brews 'n Bass is BACK after our Summer break, but don't worry Summer isn't over till we say it is! Let's do it right with a welcome back show! This is going to be one for the books!
Lineup TBA. We can't wait!
CREATED:20190906T170130Z
URL;VALUE=URI:http://holdmyticket.com/event/346905 

DTEND:20190907T013000
END:VEVENT
END:VCALENDAR