BEGIN:VCALENDAR
METHOD:PUBLISH
X-WR-TIMEZONE:America/Los_Angeles
PRODID:-//Hold My Ticket.//HMT Web App//EN
CALSCALE:GREGORIAN
METHOD:PUBLISH
X-WR-CALNAME:Humboldt Brews
X-WR-CALDESC:Upcoming events at Humboldt Brews
BEGIN:VTIMEZONE
TZID:America/Los_Angeles 
END:VTIMEZONE
BEGIN:VEVENT
SEQUENCE:2
TRANSP:OPAQUE
UID:4fb7f6314bfb005881a920912577cb92
DTSTART:20190916T213000
DTSTAMP:20190916T170120Z
SUMMARY:Daniel Rodriguez (of Elephant Revival)
DESCRIPTION:Colorado singer-songwriter, Daniel Rod­­riguez, turns to his acoustic guitar for memorable, melodic hooks to accompany his poetic and contemplative folk songs. Boulder Weekly refers to Rodriguez's voice as "a timeless folk voice, deep and hearty, weathered but comforting."
With over a decade under his belt as one of the founding members and lead songwriters of the transcendental folk band, Elephant Revival, Rodriguez is well-versed in the Americana tour circuit. Before going on hiatus, after their third headlining Red Rocks show in May 2018, Elephant Revival had released six albums and performed countless shows and festivals across the nation as well as overseas.
Needing to fill the musical void that might have become following Elephant Revival's hiatus announcement, Rodriguez immediately headed out on tour as a solo artist. He's been chosen as main support for bands such as Fruition, Mandolin Orange, Josh Ritter, Birds of Chicago, and John Craigie in addition to being added to numerous festivals like Jam Cruise, and WinterWonderGrass.
Daniel Rodriguez released his debut collection of songs as an EP titled Your Heart The Stars The Milky Way on February 15, 2019.
CREATED:20190916T170120Z
URL;VALUE=URI:http://holdmyticket.com/event/346927 

DTEND:20190917T003000
END:VEVENT
END:VCALENDAR