BEGIN:VCALENDAR
METHOD:PUBLISH
X-WR-TIMEZONE:America/Los_Angeles
PRODID:-//Hold My Ticket.//HMT Web App//EN
CALSCALE:GREGORIAN
METHOD:PUBLISH
X-WR-CALNAME:Humboldt Brews
X-WR-CALDESC:Upcoming events at Humboldt Brews
BEGIN:VTIMEZONE
TZID:America/Los_Angeles 
END:VTIMEZONE
BEGIN:VEVENT
SEQUENCE:2
TRANSP:OPAQUE
UID:27c41c6b9f28694551a1b730e849f7de
DTSTART:20190920T213000
DTSTAMP:20190920T170153Z
SUMMARY:Absynth Quartet
DESCRIPTION:The often zany, sometimes reckless, occasionally virtuosic and always entertaining Absynth Quartet  
returns to Humbrews Sept 20, 2019 . 

With new material from their forth coming album ( Robot 0, out Winter 2020) the foursome will be joined by Dan and The Americans in what promises to be a night of dance and revelation . 
CREATED:20190920T170153Z
URL;VALUE=URI:http://holdmyticket.com/event/346958 

DTEND:20190921T010000
END:VEVENT
END:VCALENDAR