BEGIN:VCALENDAR
METHOD:PUBLISH
X-WR-TIMEZONE:America/Los_Angeles
PRODID:-//Hold My Ticket.//HMT Web App//EN
CALSCALE:GREGORIAN
METHOD:PUBLISH
X-WR-CALNAME:Bossanova Ballroom
X-WR-CALDESC:Upcoming events at Bossanova Ballroom
BEGIN:VTIMEZONE
TZID:America/Los_Angeles 
END:VTIMEZONE
BEGIN:VEVENT
SEQUENCE:2
TRANSP:OPAQUE
UID:5c95636f28a18f918e0c2b853ac351d5
DTSTART:20191202T190000
DTSTAMP:20191202T184156Z
SUMMARY:DAUGHTERS  *SOLD OUT*
DESCRIPTION:21+ / $20 ADV - $25 DOS / 7PM DOORS (8PM SHOW)
*SHOW WAS MOVED FROM STAR THEATRE (ALL TICKETS WILL BE HONORED)
CREATED:20191202T184156Z
URL;VALUE=URI:http://holdmyticket.com/event/346960 

DTEND:20191202T230000
END:VEVENT
END:VCALENDAR