BEGIN:VCALENDAR
METHOD:PUBLISH
X-WR-TIMEZONE:America/Chicago
PRODID:-//Hold My Ticket.//HMT Web App//EN
CALSCALE:GREGORIAN
METHOD:PUBLISH
X-WR-CALNAME:Threadgill's 
X-WR-CALDESC:Upcoming events at Threadgill's 
BEGIN:VTIMEZONE
TZID:America/Chicago 
END:VTIMEZONE
BEGIN:VEVENT
SEQUENCE:2
TRANSP:OPAQUE
UID:ca826da29978bba9c0fd051911296b62
DTSTART:20191117T110000
DTSTAMP:20191117T070150Z
SUMMARY:Sunday Brunch: Blue Country Grass
DESCRIPTION:Join us for Sunday brunch at Threadgill's every weekend with live music and a delicious breakfast buffet! 

Music on Sunday from 11am - 1pm • $12.95 Adults &amp; $5.95 Children. All you can eat buffet of all your favorites, including: made to order omelette station, migas &amp; salsa, hash browns, garlic cheese grits, refried beans, tortillas, bacon, sausage, biscuits &amp; gravy, buttermilk pancakes, sweet potato pancakes, French toast and fresh fruit. Plus enjoy $3 mimosas, screwdrivers, and bloody marys. 
CREATED:20191117T070150Z
URL;VALUE=URI:http://holdmyticket.com/event/347221 

DTEND:20191117T130000
END:VEVENT
END:VCALENDAR