BEGIN:VCALENDAR
METHOD:PUBLISH
X-WR-TIMEZONE:America/Chicago
PRODID:-//Hold My Ticket.//HMT Web App//EN
CALSCALE:GREGORIAN
METHOD:PUBLISH
X-WR-CALNAME:Threadgill's 
X-WR-CALDESC:Upcoming events at Threadgill's 
BEGIN:VTIMEZONE
TZID:America/Chicago 
END:VTIMEZONE
BEGIN:VEVENT
SEQUENCE:2
TRANSP:OPAQUE
UID:2c99a2edb8601b9a29dd40dfecbfc26f
DTSTART:20191215T110000
DTSTAMP:20191215T070139Z
SUMMARY:Sunday Brunch: Blue Country Grass Gospel
DESCRIPTION:Join us for Sunday brunch at Threadgill's every weekend with live music and a delicious breakfast buffet! 

Music on Sunday from 11am - 1pm • $12.95 Adults &amp; $5.95 Children. All you can eat buffet of all your favorites, including: made to order omelette station, migas &amp; salsa, hash browns, garlic cheese grits, refried beans, tortillas, bacon, sausage, biscuits &amp; gravy, buttermilk pancakes, sweet potato pancakes, French toast and fresh fruit. Plus enjoy $3 mimosas, screwdrivers, and bloody marys. 
CREATED:20191215T070139Z
URL;VALUE=URI:http://holdmyticket.com/event/347222 

DTEND:20191215T130000
END:VEVENT
END:VCALENDAR